BEGIN:VCALENDAR
VERSION:2.0
PRODID:-//IRIS - Instituto de Regulação, Inovação e Sustentabilidade - ECPv6.15.16.1//NONSGML v1.0//EN
CALSCALE:GREGORIAN
METHOD:PUBLISH
X-WR-CALNAME:IRIS - Instituto de Regulação, Inovação e Sustentabilidade
X-ORIGINAL-URL:https://irisregulacao.org
X-WR-CALDESC:Eventos para IRIS - Instituto de Regulação, Inovação e Sustentabilidade
REFRESH-INTERVAL;VALUE=DURATION:PT1H
X-Robots-Tag:noindex
X-PUBLISHED-TTL:PT1H
BEGIN:VTIMEZONE
TZID:UTC
BEGIN:STANDARD
TZOFFSETFROM:+0000
TZOFFSETTO:+0000
TZNAME:UTC
DTSTART:20250101T000000
END:STANDARD
END:VTIMEZONE
BEGIN:VTIMEZONE
TZID:Europe/Moscow
BEGIN:STANDARD
TZOFFSETFROM:+0300
TZOFFSETTO:+0300
TZNAME:MSK
DTSTART:20250101T000000
END:STANDARD
END:VTIMEZONE
BEGIN:VEVENT
DTSTART;VALUE=DATE:20260416
DTEND;VALUE=DATE:20260417
DTSTAMP:20260423T204105
CREATED:20260305T021633Z
LAST-MODIFIED:20260305T021633Z
UID:1892-1776297600-1776383999@irisregulacao.org
SUMMARY:Série de Entrevistas IRIS
DESCRIPTION:Pré-Candidatos à Presidência da República
URL:https://irisregulacao.org/evento/serie-de-entrevistas-iris/
LOCATION:Brasília – DF
END:VEVENT
BEGIN:VEVENT
DTSTART;VALUE=DATE:20260409
DTEND;VALUE=DATE:20260410
DTSTAMP:20260423T204105
CREATED:20260305T021020Z
LAST-MODIFIED:20260305T021111Z
UID:1888-1775692800-1775779199@irisregulacao.org
SUMMARY:Série de Entrevistas IRIS
DESCRIPTION:Pré-Candidatos à Presidência da República
URL:https://irisregulacao.org/evento/serie-de-entrevistas-iris-clone/
LOCATION:Brasília – DF
END:VEVENT
BEGIN:VEVENT
DTSTART;VALUE=DATE:20260402
DTEND;VALUE=DATE:20260403
DTSTAMP:20260423T204105
CREATED:20260304T171311Z
LAST-MODIFIED:20260305T020857Z
UID:1677-1775088000-1775174399@irisregulacao.org
SUMMARY:Série de Entrevistas IRIS
DESCRIPTION:Pré-Candidatos à Presidência da República
URL:https://irisregulacao.org/evento/serie-de-entrevistas-iris-pre-candidatos-a-presidencia-da-republica/
LOCATION:Brasília – DF
END:VEVENT
BEGIN:VEVENT
DTSTART;TZID=Europe/Moscow:20260326T083000
DTEND;TZID=Europe/Moscow:20260326T110000
DTSTAMP:20260423T204105
CREATED:20260316T210126Z
LAST-MODIFIED:20260325T222937Z
UID:1996-1774513800-1774522800@irisregulacao.org
SUMMARY:SEMINÁRIO IRIS FREE FLOW
DESCRIPTION:Local: Edifício CBS – Av. Pres. Juscelino Kubitschek\, 50 – 19º andar\nItaim Bibi \nPROGRAMAÇÃO \n🕘 8:30 AM – ABERTURA INSTITUCIONAL \nMateus Szwarcwing (Diretor-Geral IRIS) \nFelipe Queiroz (Diretor ANTT) \n🕘 9:00 AM – FREE FLOW E MEIOS DE PAGAMENTO \nFelipe Queiroz (Diretor ANTT) \nSanti Ferri (Ex Diretor ARTESP / Gerente de Inovação) \nEduardo Sgobbi (CEO EDAN) \nAnderson Poddis (Diretor de Fiscalização Detran/SP) \nCarlos Gazaffi (CEO da SEM PARAR) \nModerador:\nMateus Szwarcwing (Diretor-Geral IRIS) \n🕘 11:00 AM – PERSPECTIVAS E TENDÊNCIAS REGULATÓRIAS DO FREE FLOW \nMarco Aurélio (Diretor-Presidente ABCR) \nFernando Bezerra (Superintendente SUROD / ANTT) \nGabriel Fajardo (Diretor DICOP/CODEMGE) \nAlexandre Freire (Conselheiro ANATEL) \nModerador:\nLuciano Lourenço (VP IRIS e Diretor EPR)\nGill Gasser (Gerente Tecsidel)
URL:https://irisregulacao.org/evento/seminario-iris-free-flow/
LOCATION:São Paulo – SP
END:VEVENT
BEGIN:VEVENT
DTSTART;VALUE=DATE:20260305
DTEND;VALUE=DATE:20260306
DTSTAMP:20260423T204105
CREATED:20260304T220013Z
LAST-MODIFIED:20260305T020303Z
UID:1831-1772668800-1772755199@irisregulacao.org
SUMMARY:1º Fórum Brasil Regulação
DESCRIPTION:
URL:https://irisregulacao.org/evento/bank-of-america/
LOCATION:São Paulo – SP
END:VEVENT
END:VCALENDAR