BEGIN:VCALENDAR
VERSION:2.0
PRODID:-//IRIS - Instituto de Regulação, Inovação e Sustentabilidade - ECPv6.15.16.1//NONSGML v1.0//EN
CALSCALE:GREGORIAN
METHOD:PUBLISH
X-ORIGINAL-URL:https://irisregulacao.org
X-WR-CALDESC:Eventos para IRIS - Instituto de Regulação, Inovação e Sustentabilidade
REFRESH-INTERVAL;VALUE=DURATION:PT1H
X-Robots-Tag:noindex
X-PUBLISHED-TTL:PT1H
BEGIN:VTIMEZONE
TZID:UTC
BEGIN:STANDARD
TZOFFSETFROM:+0000
TZOFFSETTO:+0000
TZNAME:UTC
DTSTART:20250101T000000
END:STANDARD
END:VTIMEZONE
BEGIN:VEVENT
DTSTART;VALUE=DATE:20260430
DTEND;VALUE=DATE:20260501
DTSTAMP:20260424T003139
CREATED:20260305T022258Z
LAST-MODIFIED:20260305T022258Z
UID:1896-1777507200-1777593599@irisregulacao.org
SUMMARY:Série de Entrevistas IRIS
DESCRIPTION:Pré-Candidatos à Presidência da República
URL:https://irisregulacao.org/evento/serie-de-entrevistas-iris-3/
LOCATION:Brasília – DF
END:VEVENT
BEGIN:VEVENT
DTSTART;TZID=UTC:20260507T080000
DTEND;TZID=UTC:20260507T170000
DTSTAMP:20260424T003139
CREATED:20260304T184225Z
LAST-MODIFIED:20260304T215755Z
UID:1714-1778140800-1778173200@irisregulacao.org
SUMMARY:Painel IRIS – Mobilidade Urbana
DESCRIPTION:Regulação e desafios dos sistemas metroviários \n 
URL:https://irisregulacao.org/evento/painel-iris-mobilidade-urbana/
END:VEVENT
BEGIN:VEVENT
DTSTART;VALUE=DATE:20260618
DTEND;VALUE=DATE:20260619
DTSTAMP:20260424T003139
CREATED:20260304T184806Z
LAST-MODIFIED:20260304T210846Z
UID:1722-1781740800-1781827199@irisregulacao.org
SUMMARY:Painel IRIS – Água e Saneamento
DESCRIPTION:Desafios da universalização dos serviços
URL:https://irisregulacao.org/evento/painel-iris-agua-e-saneamento/
END:VEVENT
BEGIN:VEVENT
DTSTART;VALUE=DATE:20260709
DTEND;VALUE=DATE:20260710
DTSTAMP:20260424T003139
CREATED:20260304T185137Z
LAST-MODIFIED:20260304T211059Z
UID:1728-1783555200-1783641599@irisregulacao.org
SUMMARY:Fórum IRIS – Saúde e Regulação Sanitária
DESCRIPTION:Regulação e inovação em saúde
URL:https://irisregulacao.org/evento/forum-iris-saude-e-regulacao-sanitaria/
END:VEVENT
BEGIN:VEVENT
DTSTART;VALUE=DATE:20260820
DTEND;VALUE=DATE:20260821
DTSTAMP:20260424T003139
CREATED:20260304T185509Z
LAST-MODIFIED:20260304T211238Z
UID:1732-1787184000-1787270399@irisregulacao.org
SUMMARY:Painel IRIS – Aquaviário
DESCRIPTION:Licenciamento ambiental e sustentabilidade
URL:https://irisregulacao.org/evento/painel-iris-aquaviario/
END:VEVENT
BEGIN:VEVENT
DTSTART;VALUE=DATE:20260924
DTEND;VALUE=DATE:20260925
DTSTAMP:20260424T003139
CREATED:20260304T190205Z
LAST-MODIFIED:20260304T211337Z
UID:1737-1790208000-1790294399@irisregulacao.org
SUMMARY:Seminário IRIS – Tecnologia
DESCRIPTION:Inteligência Artificial nas Agências Reguladoras
URL:https://irisregulacao.org/evento/seminario-iris-tecnologia/
END:VEVENT
BEGIN:VEVENT
DTSTART;VALUE=DATE:20261015
DTEND;VALUE=DATE:20261016
DTSTAMP:20260424T003139
CREATED:20260304T190352Z
LAST-MODIFIED:20260304T211810Z
UID:1745-1792022400-1792108799@irisregulacao.org
SUMMARY:Painel IRIS – Telecomunicações
DESCRIPTION:Inovação\, tecnologia e a regulação do futuro
URL:https://irisregulacao.org/evento/painel-iris-telecomunicacoes/
END:VEVENT
BEGIN:VEVENT
DTSTART;TZID=UTC:20261026T080000
DTEND;TZID=UTC:20261026T170000
DTSTAMP:20260424T003139
CREATED:20260304T190629Z
LAST-MODIFIED:20260304T190629Z
UID:1752-1793001600-1793034000@irisregulacao.org
SUMMARY:Reunião CA\, CF e AGO - aprovação de contas
DESCRIPTION:
URL:https://irisregulacao.org/evento/reuniao-ca-cf-e-ago-aprovacao-de-contas/
END:VEVENT
BEGIN:VEVENT
DTSTART;VALUE=DATE:20261112
DTEND;VALUE=DATE:20261113
DTSTAMP:20260424T003139
CREATED:20260304T190831Z
LAST-MODIFIED:20260304T212010Z
UID:1756-1794441600-1794527999@irisregulacao.org
SUMMARY:Painel IRIS – Coordenação Institucional
DESCRIPTION:Federalismo regulatório e integração entre entes
URL:https://irisregulacao.org/evento/painel-iris-coordenacao-institucional/
END:VEVENT
BEGIN:VEVENT
DTSTART;TZID=UTC:20261210T080000
DTEND;TZID=UTC:20261210T170000
DTSTAMP:20260424T003139
CREATED:20260304T190930Z
LAST-MODIFIED:20260304T212228Z
UID:1760-1796889600-1796922000@irisregulacao.org
SUMMARY:Lançamento de Livro & Evento Comemorativo 30 anos da criação das Agências Reguladoras
DESCRIPTION:
URL:https://irisregulacao.org/evento/lancamento-de-livro-evento-comemorativo-30-anos-da-criacao-das-agencias-reguladoras/
END:VEVENT
BEGIN:VEVENT
DTSTART;TZID=UTC:20261211T120000
DTEND;TZID=UTC:20261211T140000
DTSTAMP:20260424T003139
CREATED:20260304T191037Z
LAST-MODIFIED:20260304T212327Z
UID:1765-1796990400-1796997600@irisregulacao.org
SUMMARY:Almoço ou Jantar de Confraternização dos Associados IRIS
DESCRIPTION:
URL:https://irisregulacao.org/evento/almoco-ou-jantar-de-confraternizacao-dos-associados-iris/
END:VEVENT
END:VCALENDAR