BEGIN:VCALENDAR
VERSION:2.0
PRODID:-//IRIS - Instituto de Regulação, Inovação e Sustentabilidade - ECPv6.15.16.1//NONSGML v1.0//EN
CALSCALE:GREGORIAN
METHOD:PUBLISH
X-ORIGINAL-URL:https://irisregulacao.org
X-WR-CALDESC:Eventos para IRIS - Instituto de Regulação, Inovação e Sustentabilidade
REFRESH-INTERVAL;VALUE=DURATION:PT1H
X-Robots-Tag:noindex
X-PUBLISHED-TTL:PT1H
BEGIN:VTIMEZONE
TZID:UTC
BEGIN:STANDARD
TZOFFSETFROM:+0000
TZOFFSETTO:+0000
TZNAME:UTC
DTSTART:20250101T000000
END:STANDARD
END:VTIMEZONE
BEGIN:VEVENT
DTSTART;TZID=UTC:20261210T080000
DTEND;TZID=UTC:20261210T170000
DTSTAMP:20260423T191903
CREATED:20260304T190930Z
LAST-MODIFIED:20260304T212228Z
UID:1760-1796889600-1796922000@irisregulacao.org
SUMMARY:Lançamento de Livro & Evento Comemorativo 30 anos da criação das Agências Reguladoras
DESCRIPTION:
URL:https://irisregulacao.org/evento/lancamento-de-livro-evento-comemorativo-30-anos-da-criacao-das-agencias-reguladoras/
END:VEVENT
BEGIN:VEVENT
DTSTART;TZID=UTC:20261211T120000
DTEND;TZID=UTC:20261211T140000
DTSTAMP:20260423T191903
CREATED:20260304T191037Z
LAST-MODIFIED:20260304T212327Z
UID:1765-1796990400-1796997600@irisregulacao.org
SUMMARY:Almoço ou Jantar de Confraternização dos Associados IRIS
DESCRIPTION:
URL:https://irisregulacao.org/evento/almoco-ou-jantar-de-confraternizacao-dos-associados-iris/
END:VEVENT
END:VCALENDAR