BEGIN:VCALENDAR
VERSION:2.0
PRODID:-//IRIS - Instituto de Regulação, Inovação e Sustentabilidade - ECPv6.15.16.1//NONSGML v1.0//EN
CALSCALE:GREGORIAN
METHOD:PUBLISH
X-WR-CALNAME:IRIS - Instituto de Regulação, Inovação e Sustentabilidade
X-ORIGINAL-URL:https://irisregulacao.org
X-WR-CALDESC:Eventos para IRIS - Instituto de Regulação, Inovação e Sustentabilidade
REFRESH-INTERVAL;VALUE=DURATION:PT1H
X-Robots-Tag:noindex
X-PUBLISHED-TTL:PT1H
BEGIN:VTIMEZONE
TZID:UTC
BEGIN:STANDARD
TZOFFSETFROM:+0000
TZOFFSETTO:+0000
TZNAME:UTC
DTSTART:20250101T000000
END:STANDARD
END:VTIMEZONE
BEGIN:VEVENT
DTSTART;VALUE=DATE:20260709
DTEND;VALUE=DATE:20260710
DTSTAMP:20260423T230432
CREATED:20260304T185137Z
LAST-MODIFIED:20260304T211059Z
UID:1728-1783555200-1783641599@irisregulacao.org
SUMMARY:Fórum IRIS – Saúde e Regulação Sanitária
DESCRIPTION:Regulação e inovação em saúde
URL:https://irisregulacao.org/evento/forum-iris-saude-e-regulacao-sanitaria/
END:VEVENT
END:VCALENDAR